BEGIN:VCALENDAR
VERSION:2.0
PRODID:-//wp-events-plugin.com//7.2.3.1//EN
TZID:America/Chicago
X-WR-TIMEZONE:America/Chicago
BEGIN:VEVENT
UID:1@climatology.nelson.wisc.edu
DTSTART;TZID=America/Chicago:20251202T160000
DTEND;TZID=America/Chicago:20251202T180000
DTSTAMP:20251104T164140Z
URL:https://climatology.nelson.wisc.edu/events/extreme-weather-and-climate
 -roadshow-northwoods/
SUMMARY:Extreme Weather and Climate Services Roadshow: Northwoods
DESCRIPTION:This event aims to identify the most pressing weather and clima
 te-related questions facing local stakeholders\, with a focus on extreme w
 eather impacts.
LOCATION:Newbold Community Center\, 4608 Apperson Drive\, Rhinelander\, WI\
 , United States
X-APPLE-STRUCTURED-LOCATION;VALUE=URI;X-ADDRESS=4608 Apperson Drive\, Rhine
 lander\, WI\, United States;X-APPLE-RADIUS=100;X-TITLE=Newbold Community C
 enter:geo:0,0
END:VEVENT
BEGIN:VTIMEZONE
TZID:America/Chicago
X-LIC-LOCATION:America/Chicago
BEGIN:STANDARD
DTSTART:20251102T010000
TZOFFSETFROM:-0500
TZOFFSETTO:-0600
TZNAME:CST
END:STANDARD
END:VTIMEZONE
END:VCALENDAR